Workbook

Sheet 封面
A2: 东莞市建设工程项目
A4: 工 程 量 清 单 报 价 表
B8: 招标编号：SSASSO12400472 .
B9: 工程名称：环莞快速路三期长安莲湖路至莞长路段工程施工第三合同段
B10: 招 标 人：东莞市交通投资集团有限公司
B11: 代 理 人：东莞市建业工程造价咨询事务所有限公司
B14: 投标人： （企业数字证书电子签章）
B15: 投标文件递交截止时间： 2024年 月 日 ： 时
B16: 投标单位法定代表人或其授权代理人： （数字证书电子签章）

Sheet 清单说明（必须打印）
A1: 1.工程量清单说明 1.1本工程量清单是根据招标文件中包括的、有合同约束力的工程量清单计量与支付规则、图纸以及有关工程量清单的国家标准、行业标准、合同条款中约定的工程量计算规则编制。约定计量规则中没有的子目，其工程量按照有合同约束力的图纸所标示尺寸的理论净量计算。计量采用中华人民共和国法定计量单位。 1.2本工程量清单应与招标文件中的投标人须知、通用合同条款、专用合同条款、技术规范、工程量清单计量与支付规则及图纸等一起阅读和理解。 1.3本工程量清单中所列工程数量是根据招标图纸计算出的。具体说明及要求详见招标文件第二章“投标人须知”第3.2款“投标报价”的有关规定。 1.4工程量清单各章是按照第八章“工程量清单计量与支付规则”、粤交基[2010]355号第一册附件3《工程量清单计量与支付规则》和粤交造价函〔2011〕45号的相应章次编号的，因此，工程量清单中各章的工程子目的范围与计量等应与上述《规则》的范围、计量与支付条款结合起来理解或解释。该规则中未涉及到的项目，按照第七章“技术规范“相应章节的范围、计量与支付条款结合起来理解或解释。 1.5对作业和材料的一般说明或规定，未重复写入工程量清单内，在给工程量清单各子目标价前，应参阅第七章“技术规范”、第八章“工程量清单计量与支付规则”、粤交基[2010]355号第一册附件3《工程量清单计量与支付规则》和粤交造价函〔2011〕45号的的有关内容。 1.6工程量清单中所列工程量的变动，丝毫不会降低或影响合同条款的效力，也不免除投标人按规定的标准进行施工和修复缺陷的责任。当图纸与工程量清单所列数量不一致时，以工程量清单所列数量作为报价的依据。 1.7图纸中所列的工程数量表及数量汇总表仅是提供资料，不是工程量清单的外延。当图纸与工程量清单所列数量不一致时，以工程量清单所列数量作为报价的依据。 2.投标报价说明 2.1工程量清单中的每一子目须填入单价或价格，且只允许有一个报价。 2.2除非合同另有规定，工程量清单中有标价的单价和总额价均已包括了为实施和完成合同工程所需的劳务、材料、机械、质检（自检）、安装、缺陷修复、管理、保险（建筑工程一切险及第三者责任险除外）、税费、 利润等费用，以及合同明示或暗示的所有责任、义务和一般风险。 2.3最高限价中的工程量清单第100章的竣工文件费、施工环保费、工程管理软件、供水与排污设施、电讯设施的提供、维修与拆除、通车前保洁及交通维护费用等费用已包含在相关费率中，上述细目，投标人在编制投标报价时应综合考虑予以报价（其中工程量清单第100章的竣工文件按工程量清单第200章至第900章合计金额的2‰在工程量清单102-1中报价，施工环保费按工程量清单第200章至第900章合计金额的3‰在工程量清单102-2中报价，通车前保洁及交通维护费用按公路里程长度5万元/km在工程量清单102-7中报价，工程管理软件报价不得低于30万元）。工程量清单中投标人没有填入单价或价格的子目，其费用视为已分摊在工程量清单中其他相关子目的单价或价格之中。投标人必须按监理人指令完成工程量清单中未填入单价或价格的子目及图纸中对应项目的所有工程内容。 本工程的土石比例按照招标时工程量清单报价表中所列土方和石方的数量比例包干确定，其中石方中软石、次坚石、坚石比例及次坚石、坚石利用比例及坚石回收比例包干，与此有关的风险承包人应在投标报价时充分考虑，施工过程中无论任何原因均不做调整。 2.4符合合同条款规定的全部费用已被计入有标价的工程量清单所列各子目之中，未列子目不予计量的工作，其费用应视为已分摊在本合同工程的有关子目的单价或总额价之中。 2.5投标人用于本合同工程的各类装备的提供、运输、维护、拆卸、拼装等支付的费用，已包括在工程量清单的单价与总额价之中。 2.6安全生产费用说明 安全生产费用的管理，招标人将另行制订详细的安全生产费用管理办法，具体的安全生产费用计量、支付等管理以招标人另行制订的安全生产费用管理办法为准，请各投标人综合考虑相关风险，不得由此提出任何索赔。 2.7工程量清单中各项金额均以人民币（元）结算。 2.8暂列金额（不含计日工总额）的数量及拟用子目的说明：无。 2.9暂估价的数量及拟用子目的说明：无。 3. 计日工说明:本款不适用。 4.其他说明 投标文件必须使用填妥报价的工程量固化清单电子文件直接打印成纸质版的工程量清单后将其扫描件附在投标文件中，并按要求由投标人的法定代表人或其委托代理人进行数字证书电子签章和企业数字证书电子签章，具体详见招标文件第二章投标人须知第3.2.1项。 5.工程量清单 工程量清单详见在全国公共资源交易平台（广东省·东莞市）上发布的工程量固化清单电子文件。 注：投标人应按照上述要求逐项填报工程量清单。工程量清单不需要附项目清单、分项清单及单价分析表，但投标人中标后，发包人可要求中标人提交项目清单、分项清单及单价分析表，中标人不得拒绝。
A29: 法定代表人或授权代理人电子签章： | G29: 企业数字证书电子签章：

Sheet 汇总表
A1: 工程量清单汇总表
D2: 招清单01表
A3: 环莞快速路三期长安莲湖路至莞长路段工程施工第三合同段
A4: 施工第三合同段
A5: 序 号 | B5: 章 次 | C5: 科 目 名 称 | D5: 合计金额(元)
A6: 1 | B6: 第100章 | C6: 总则 | D6: =工程量清单!C50 -> 211407
A7: 2 | B7: 第200章 | C7: 路基 | D7: =工程量清单!C314 -> 0
A8: 3 | B8: 第300章 | C8: 路面 | D8: =工程量清单!C472 -> 0
A9: 4 | B9: 第400章 | C9: 桥梁、涵洞工程 | D9: =工程量清单!C683 -> 0
A10: 5 | B10: 第500章 | C10: 隧道 | D10: ——
A11: 6 | B11: 第600章 | C11: 交通安全设施 | D11: =工程量清单!C735 -> 0
A12: 7 | B12: 第700章 | C12: 绿化及环境保护设施 | D12: =工程量清单!C787 -> 0
A13: 8 | B13: 第800章 | C13: 机电工程 | D13: =工程量清单!C892 -> 0
A14: 9 | B14: 第900章 | C14: 附属区房建工程 | D14: ——
A15: 10 | B15: 第100章至900章清单合计 | D15: =SUM(D6:D14) -> 211407
A16: 11 | B16: 投标报价11=10 | D16: =D15 -> 211407
A17: 企业数字证书电子签章：
A18: 法定代表人或授权代理人数字证书电子签章：

Sheet 工程量清单
A1: 工程量清单-一级子目工程量清单表
A2: 建设项目名称: 东莞市环莞快速路三期长安莲湖路至莞长路段工程第三合同段（K6+240.000～K10+000.000）清单预算 | C2: 合同段:
A3: 编制范围: K6+240.000～K10+000.000 | C3: 第 1 页 | D3: 共 17 页 | E3: 招清单2-1表
A4: 100章 总则
A5: 清单子目编码 | B5: 清单子目名称 | C5: 单位 | D5: 数量 | E5: 单价(元) | F5: 合价(元) | H5: 参考单价（元）
A6: 101 | B6: 总则
A7: 101-1 | B7: 保险费
A8: 101-1-1 | B8: 建筑工程一切险和第三者责任险 | C8: 总额 | D8: 1 | E8: =ROUND((SUM(F10:F11)+F13+SUM(F15:F20)+SUM(F24:F34)+H12+C314+C472+C683+C735+C787+C892)*0.4%,2) -> 23406.64 | F8: =ROUND(D8*E8,0) -> 23407
A9: 102 | B9: 工程管理
A10: 102-1 | B10: 竣工文件 | C10: 总额 | D10: 1 | E10: =ROUND((C314+C472+C683+C735+C787+C892)*0.2%,2) -> 0 | F10: =ROUND(D10*E10,0) -> 0
A11: 102-2 | B11: 施工环保费 | C11: 总额 | D11: 1 | E11: =ROUND((C314+C472+C683+C735+C787+C892)*0.3%,2) -> 0 | F11: =ROUND(D11*E11,0) -> 0
A12: 102-3 | B12: 安全生产费 | C12: 总额 | D12: 1 | E12: 单列 | F12: 单列 | H12: 5663660
A13: 102-4 | B13: 工程管理软件 | C13: 总额 | D13: 1 | F13: =ROUND(D13*E13,0) -> 0 | H13: 该项报价不得低于30万元
A14: 102-5 | B14: 交通管制经费
A15: 102-5-1 | B15: 交通组织协管及协调费 | C15: 总额 | D15: 1 | F15: =ROUND(D15*E15,0) -> 0 | H15: 576000
A16: 102-5-2 | B16: 临时交通疏导设施费 | C16: 总额 | D16: 1 | F16: =ROUND(D16*E16,0) -> 0 | H16: 187534
A17: 102-7 | B17: 通车前保洁及交通维护费用 | C17: 总额 | D17: 1 | E17: =ROUND(3.76*50000,2) -> 188000 | F17: =ROUND(D17*E17,0) -> 188000 | H17: 该项报价按公路里程长度5万元/km计
A18: 103 | B18: 临时工程与设施
A19: 103-1 | B19: 临时道路、便桥工程
A20: 103-1-1 | B20: 临时道路修建、养护与拆除（包括原道路的养护费） | C20: 总额 | D20: 1 | F20: =ROUND(D20*E20,0) -> 0 | H20: 964486
A21: 103-2 | B21: 临时用地
A22: 103-2-1 | B22: 驻地等其他临时用地 | C22: 总额 | D22: 1 | F22: =ROUND(D22*E22,0) -> 0 | H22: 2040000
A23: 103-3 | B23: 临时供电设施
A24: 103-3-1 | B24: 设施架设、拆除 | C24: 总额 | D24: 1 | F24: =ROUND(D24*E24,0) -> 0 | H24: 221634
A25: 103-3-2 | B25: 设施维护 | C25: 总额 | D25: 1 | F25: =ROUND(D25*E25,0) -> 0 | H25: 投标人自行报价
A26: 103-4 | B26: 电讯设施的提供、维修与拆除 | C26: 总额 | D26: 1 | F26: =ROUND(D26*E26,0) -> 0 | H26: 投标人自行报价
A27: 103-5 | B27: 供水与排污设施 | C27: 总额 | D27: 1 | F27: =ROUND(D27*E27,0) -> 0 | H27: 投标人自行报价
A28: 103-7 | B28: 专项施工围挡
A29: 103-7-1 | B29: 装配式H型钢结构围蔽
A30: 103-7-1-1 | B30: 装配式H型钢结构围蔽(新建、安装、拆除) | C30: m | D30: 9000 | F30: =ROUND(D30*E30,0) -> 0 | H30: 400
A31: 104 | B31: 承包人驻地建设
A32: 104-1 | B32: 承包人驻地建设
A33: 104-1-1 | B33: 承包人驻地建设 | C33: 总额 | D33: 1 | F33: =ROUND(D33*E33,0) -> 0 | H33: 6402920
A34: 104-1-2 | B34: 水泥混凝士拌合设施安拆及场地处理 | C34: 总额 | D34: 1 | F34: =ROUND(D34*E34,0) -> 0 | H34: 289537
B50: 清单 第 100 章合计 人民币 | C50: =SUM(F8:F34) -> 211407
A51: 企业数字证书电子签章：
A53: 工程量清单-一级子目工程量清单表
A54: 建设项目名称: 东莞市环莞快速路三期长安莲湖路至莞长路段工程第三合同段（K6+240.000～K10+000.000）清单预算 | C54: 合同段:
A55: 编制范围: K6+240.000～K10+000.000 | C55: 第 2 页 | D55: 共 17 页 | E55: 招清单2-1表
A56: 200章 路基
...
